BEGIN:VCALENDAR
VERSION:2.0
PRODID:-//LSLA//Event Calendar//EN
BEGIN:VEVENT
UID:69ea362e15bcd
DTSTAMP:20260423T160934
DTSTART:20241001T180000
DTEND:20241001T200000
SUMMARY:Litigation lighthouse: crisis and reputation management in disputes
DESCRIPTION:The uncertainty and very public nature of litigation can often be a client's main concern when involved in a dispute, and solicitors are often required to predict and manage reputation risks for their clients as well as assist in crisis management.
LOCATION:
END:VEVENT
END:VCALENDAR