BEGIN:VCALENDAR
VERSION:2.0
PRODID:-//LSLA//Event Calendar//EN
BEGIN:VEVENT
UID:69ecc9562f8cb
DTSTAMP:20260425T150158
DTSTART:20240626T180000
DTEND:20240626T190000
SUMMARY:Generative AI and Litigation: a Panel Discussion
DESCRIPTION:Following an initial wave of excitement over the potential uses of Generative AI in all industries, the London litigation market is starting see the crystallising of what is – and what is not – an effective use case for this technology.
LOCATION:
END:VEVENT
END:VCALENDAR